BEGIN:VCALENDAR
VERSION:2.0
PRODID:-//Youth Leadership Institute - ECPv6.15.18//NONSGML v1.0//EN
CALSCALE:GREGORIAN
METHOD:PUBLISH
X-WR-CALNAME:Youth Leadership Institute
X-ORIGINAL-URL:https://yli.org
X-WR-CALDESC:Events for Youth Leadership Institute
REFRESH-INTERVAL;VALUE=DURATION:PT1H
X-Robots-Tag:noindex
X-PUBLISHED-TTL:PT1H
BEGIN:VTIMEZONE
TZID:America/Los_Angeles
BEGIN:DAYLIGHT
TZOFFSETFROM:-0800
TZOFFSETTO:-0700
TZNAME:PDT
DTSTART:20200308T100000
END:DAYLIGHT
BEGIN:STANDARD
TZOFFSETFROM:-0700
TZOFFSETTO:-0800
TZNAME:PST
DTSTART:20201101T090000
END:STANDARD
BEGIN:DAYLIGHT
TZOFFSETFROM:-0800
TZOFFSETTO:-0700
TZNAME:PDT
DTSTART:20210314T100000
END:DAYLIGHT
BEGIN:STANDARD
TZOFFSETFROM:-0700
TZOFFSETTO:-0800
TZNAME:PST
DTSTART:20211107T090000
END:STANDARD
BEGIN:DAYLIGHT
TZOFFSETFROM:-0800
TZOFFSETTO:-0700
TZNAME:PDT
DTSTART:20220313T100000
END:DAYLIGHT
BEGIN:STANDARD
TZOFFSETFROM:-0700
TZOFFSETTO:-0800
TZNAME:PST
DTSTART:20221106T090000
END:STANDARD
END:VTIMEZONE
BEGIN:VEVENT
DTSTART;TZID=America/Los_Angeles:20210517T080000
DTEND;TZID=America/Los_Angeles:20210517T170000
DTSTAMP:20260425T131124
CREATED:20210510T225604Z
LAST-MODIFIED:20210510T225653Z
UID:6935-1621238400-1621270800@yli.org
SUMMARY:Youth Commission Capacity Building Workshop
DESCRIPTION:yli’s Training and Consulting Services (TCS) is leading a capacity building workshop for the Sacramento Youth Commission! \nWe are excited to invest in the leadership of youth commissioners! Interested in a training? Check our website and email us at training@yli.org.
URL:https://yli.org/event/youth-commission-capacity-building-workshop/
CATEGORIES:Training & Consulting Services
END:VEVENT
END:VCALENDAR