BEGIN:VCALENDAR
VERSION:2.0
PRODID:-//Youth Leadership Institute - ECPv6.15.18//NONSGML v1.0//EN
CALSCALE:GREGORIAN
METHOD:PUBLISH
X-WR-CALNAME:Youth Leadership Institute
X-ORIGINAL-URL:https://yli.org
X-WR-CALDESC:Events for Youth Leadership Institute
REFRESH-INTERVAL;VALUE=DURATION:PT1H
X-Robots-Tag:noindex
X-PUBLISHED-TTL:PT1H
BEGIN:VTIMEZONE
TZID:America/Los_Angeles
BEGIN:DAYLIGHT
TZOFFSETFROM:-0800
TZOFFSETTO:-0700
TZNAME:PDT
DTSTART:20180311T100000
END:DAYLIGHT
BEGIN:STANDARD
TZOFFSETFROM:-0700
TZOFFSETTO:-0800
TZNAME:PST
DTSTART:20181104T090000
END:STANDARD
BEGIN:DAYLIGHT
TZOFFSETFROM:-0800
TZOFFSETTO:-0700
TZNAME:PDT
DTSTART:20190310T100000
END:DAYLIGHT
BEGIN:STANDARD
TZOFFSETFROM:-0700
TZOFFSETTO:-0800
TZNAME:PST
DTSTART:20191103T090000
END:STANDARD
BEGIN:DAYLIGHT
TZOFFSETFROM:-0800
TZOFFSETTO:-0700
TZNAME:PDT
DTSTART:20200308T100000
END:DAYLIGHT
BEGIN:STANDARD
TZOFFSETFROM:-0700
TZOFFSETTO:-0800
TZNAME:PST
DTSTART:20201101T090000
END:STANDARD
END:VTIMEZONE
BEGIN:VEVENT
DTSTART;TZID=America/Los_Angeles:20191206T110000
DTEND;TZID=America/Los_Angeles:20191206T150000
DTSTAMP:20260425T130956
CREATED:20191125T174417Z
LAST-MODIFIED:20191125T174451Z
UID:6057-1575630000-1575644400@yli.org
SUMMARY:Youth Innovation Idea Lab
DESCRIPTION:
URL:https://yli.org/event/youth-innovation-idea-lab/
LOCATION:Corwin Pavilion\, UCSB\, 494 UCEN Road\, Isla Vista\, CA\, 93117\, United States
CATEGORIES:Training & Consulting Services
ATTACH;FMTTYPE=image/jpeg:https://yli.org/wp-content/uploads/2019/11/Invitation-to-Adult-Allies_Santa-Barbara-Idea-Lab_Final_ADA-1-page-001.jpg
ORGANIZER;CN="Shannon Tarter":MAILTO:shannon.tarter@mhsoac.ca.gov
END:VEVENT
END:VCALENDAR